BEGIN:VCALENDAR
VERSION:2.0
PRODID:icalendar-ruby
CALSCALE:GREGORIAN
BEGIN:VEVENT
DTSTAMP:20260420T135823Z
UID:ad179e64-99e7-419c-85ef-3f752dbf9e1a
DTSTART;TZID=Pacific/Auckland:20260419T143000
DTEND;TZID=Pacific/Auckland:20260419T150000
DESCRIPTION:Property ID# 606844
SUMMARY:Openhome for 3G/21 Rugby Street
END:VEVENT
END:VCALENDAR
