BEGIN:VCALENDAR
VERSION:2.0
PRODID:icalendar-ruby
CALSCALE:GREGORIAN
BEGIN:VEVENT
DTSTAMP:20260420T135951Z
UID:be989c65-1fd7-4c08-877c-cb0a577540a3
DTSTART;VALUE=DATE:20260508
DESCRIPTION:Property ID# 606844\, Locatoin: Harcourts\, 59 Vivian Street\, 
 Te Aro\, Wellington\, Time: 12:00PM
SUMMARY:Auction for 3G/21 Rugby Street
END:VEVENT
END:VCALENDAR
