BEGIN:VCALENDAR
VERSION:2.0
PRODID:icalendar-ruby
CALSCALE:GREGORIAN
BEGIN:VEVENT
DTSTAMP:20260423T144941Z
UID:31e70f8a-460f-4610-aff6-55e6f2738114
DTSTART;VALUE=DATE:20260326
DESCRIPTION:Property ID# 604719\, Locatoin: 8 Kent Terrace\, Wellington\, T
 ime: 12:00PM
SUMMARY:Auction for 
END:VEVENT
END:VCALENDAR
