BEGIN:VCALENDAR
VERSION:2.0
PRODID:icalendar-ruby
CALSCALE:GREGORIAN
BEGIN:VEVENT
DTSTAMP:20260420T102217Z
UID:fc8f754e-fa8b-478f-be0f-3ef229b923c2
DTSTART;VALUE=DATE:20260226
DESCRIPTION:Property ID# 603473\, Locatoin: Level 1\, 77 Thorndon Quay\, WE
 LLINGTON\, Time: 2:00PM
SUMMARY:Auction for 
END:VEVENT
END:VCALENDAR
