BEGIN:VCALENDAR
VERSION:2.0
PRODID:icalendar-ruby
CALSCALE:GREGORIAN
BEGIN:VEVENT
DTSTAMP:20260424T073922Z
UID:ae1fb012-fdc2-40e8-99be-853ecc1594a5
DTSTART;VALUE=DATE:20260204
DESCRIPTION:Property ID# 601467\, Locatoin: 8 Kent Terrace\, Wellington (wi
 ll not be sold prior)\, Time: 12:00PM
SUMMARY:Auction for 
END:VEVENT
END:VCALENDAR
