BEGIN:VCALENDAR
VERSION:2.0
PRODID:icalendar-ruby
CALSCALE:GREGORIAN
BEGIN:VEVENT
DTSTAMP:20260420T090403Z
UID:0b324d87-fe9a-4700-a55c-b6d4aeb205d0
DTSTART;VALUE=DATE:20251114
DESCRIPTION:Property ID# 599645\, Locatoin: Harcourts Wellington City Offic
 e (unless brought forward)\, Time: 12:00PM
SUMMARY:Auction for 
END:VEVENT
END:VCALENDAR
