BEGIN:VCALENDAR
VERSION:2.0
PRODID:icalendar-ruby
CALSCALE:GREGORIAN
BEGIN:VEVENT
DTSTAMP:20260422T082902Z
UID:9d3b6de0-6f10-4e46-8eaf-51db2b019699
DTSTART;VALUE=DATE:20251128
DESCRIPTION:Property ID# 599364\, Time: 11:00AM
SUMMARY:Auction for 
END:VEVENT
END:VCALENDAR
