BEGIN:VCALENDAR
VERSION:2.0
PRODID:icalendar-ruby
CALSCALE:GREGORIAN
BEGIN:VEVENT
DTSTAMP:20260419T130705Z
UID:78f1262d-11f0-4921-b5ad-a17b031c8a8c
DTSTART;VALUE=DATE:20251023
DESCRIPTION:Property ID# 597973\, Locatoin: 8 Kent Terrace\, Wellington\, T
 ime: 12:00PM
SUMMARY:Auction for 
END:VEVENT
END:VCALENDAR
