BEGIN:VCALENDAR
VERSION:2.0
PRODID:icalendar-ruby
CALSCALE:GREGORIAN
BEGIN:VEVENT
DTSTAMP:20260424T073922Z
UID:aeb3e6dc-c086-4b9e-93c8-79d417bb6b83
DTSTART;VALUE=DATE:20251008
DESCRIPTION:Property ID# 597058\, Locatoin: Johnsonville Office\, Time: 1:0
 0PM
SUMMARY:Auction for 
END:VEVENT
END:VCALENDAR
