BEGIN:VCALENDAR
VERSION:2.0
PRODID:icalendar-ruby
CALSCALE:GREGORIAN
BEGIN:VEVENT
DTSTAMP:20260421T100518Z
UID:fee552c8-52f7-46db-8cf6-c324390024a8
DTSTART;VALUE=DATE:20250723
DESCRIPTION:Property ID# 594357\, Locatoin: Ray White Kilbirnie\, 30 Bay Ro
 ad\, Kilbirnie\, Wellington\, Time: 2:00PM
SUMMARY:Auction for 
END:VEVENT
END:VCALENDAR
