BEGIN:VCALENDAR
VERSION:2.0
PRODID:icalendar-ruby
CALSCALE:GREGORIAN
BEGIN:VEVENT
DTSTAMP:20260421T135103Z
UID:4303fca2-42dd-46d7-aa78-422d584f3f37
DTSTART;VALUE=DATE:20250701
DESCRIPTION:Property ID# 593845\, Time: 2:00PM
SUMMARY:Auction for 
END:VEVENT
END:VCALENDAR
