BEGIN:VCALENDAR
VERSION:2.0
PRODID:icalendar-ruby
CALSCALE:GREGORIAN
BEGIN:VEVENT
DTSTAMP:20260419T120219Z
UID:42c3cc50-dfe0-4393-9681-181dec69474e
DTSTART;VALUE=DATE:20250521
DESCRIPTION:Property ID# 591937\, Locatoin: Harcourts Wellington City Offic
 e (unless sold prior)\, Time: 2:00PM
SUMMARY:Auction for 
END:VEVENT
END:VCALENDAR
