BEGIN:VCALENDAR
VERSION:2.0
PRODID:icalendar-ruby
CALSCALE:GREGORIAN
BEGIN:VEVENT
DTSTAMP:20260420T135823Z
UID:ca867b44-6180-4ce9-9d8e-cda42c05ffe0
DTSTART;VALUE=DATE:20250514
DESCRIPTION:Property ID# 591385\, Locatoin: 8 Kent Terrace\, Wellington\, T
 ime: 1:00PM
SUMMARY:Auction for 
END:VEVENT
END:VCALENDAR
