BEGIN:VCALENDAR
VERSION:2.0
PRODID:icalendar-ruby
CALSCALE:GREGORIAN
BEGIN:VEVENT
DTSTAMP:20260421T135033Z
UID:17c9a00b-37e9-4463-8658-01bca85d0c85
DTSTART;VALUE=DATE:20250403
DESCRIPTION:Property ID# 590072\, Locatoin: 8 Kent Terrace\, Wellington\, T
 ime: 12:00PM
SUMMARY:Auction for 
END:VEVENT
END:VCALENDAR
