BEGIN:VCALENDAR
VERSION:2.0
PRODID:icalendar-ruby
CALSCALE:GREGORIAN
BEGIN:VEVENT
DTSTAMP:20260422T110300Z
UID:aee50717-4a72-4daf-88cd-aaf72b1c4199
DTSTART;VALUE=DATE:20240606
DESCRIPTION:Property ID# 576346\, Time: 12:00PM
SUMMARY:Auction for 
END:VEVENT
END:VCALENDAR
