BEGIN:VCALENDAR
VERSION:2.0
PRODID:icalendar-ruby
CALSCALE:GREGORIAN
BEGIN:VEVENT
DTSTAMP:20260421T123811Z
UID:dc168c33-c080-4b10-b395-4c14be6115b2
DTSTART;VALUE=DATE:20240522
DESCRIPTION:Property ID# 575194\, Locatoin: 30 Bay Rd\, Kilbirnie\, Time: 1
 :00PM
SUMMARY:Auction for 
END:VEVENT
END:VCALENDAR
