BEGIN:VCALENDAR
VERSION:2.0
PRODID:icalendar-ruby
CALSCALE:GREGORIAN
BEGIN:VEVENT
DTSTAMP:20260423T020300Z
UID:10f304f3-f14a-4ffd-8303-c9abfaaef26d
DTSTART;VALUE=DATE:20240321
DESCRIPTION:Property ID# 570757\, Locatoin: 77 Thorndon Quay\, Wellington\,
  Time: 2:00PM
SUMMARY:Auction for 
END:VEVENT
END:VCALENDAR
