BEGIN:VCALENDAR
VERSION:2.0
PRODID:icalendar-ruby
CALSCALE:GREGORIAN
BEGIN:VEVENT
DTSTAMP:20260423T020253Z
UID:d6f82f91-4f03-4560-a2e3-f7880e433a01
DTSTART;VALUE=DATE:20240312
DESCRIPTION:Property ID# 570565\, Locatoin: 77 Thorndon Quay\, Wellington\,
  Time: 2:00PM
SUMMARY:Auction for 
END:VEVENT
END:VCALENDAR
