BEGIN:VCALENDAR
VERSION:2.0
PRODID:icalendar-ruby
CALSCALE:GREGORIAN
BEGIN:VEVENT
DTSTAMP:20260419T141507Z
UID:1a9e4b77-56dc-4b33-8e92-af7300d254da
DTSTART;VALUE=DATE:20231207
DESCRIPTION:Property ID# 566542\, Locatoin: L1/77 Thorndon Quay\, Pipatea\,
  Time: 12:00PM
SUMMARY:Auction for 
END:VEVENT
END:VCALENDAR
