BEGIN:VCALENDAR
VERSION:2.0
PRODID:icalendar-ruby
CALSCALE:GREGORIAN
BEGIN:VEVENT
DTSTAMP:20260423T020043Z
UID:602d327c-3267-48f5-bde3-bba4602a9acf
DTSTART;VALUE=DATE:20231004
DESCRIPTION:Property ID# 562360\, Time: 2:00PM
SUMMARY:Auction for 
END:VEVENT
END:VCALENDAR
