BEGIN:VCALENDAR
VERSION:2.0
PRODID:icalendar-ruby
CALSCALE:GREGORIAN
BEGIN:VEVENT
DTSTAMP:20260422T082800Z
UID:517479d3-5e09-4053-9660-1d4880862980
DTSTART;VALUE=DATE:20230621
DESCRIPTION:Property ID# 557526\, Locatoin: Harcourts Wellington City Offic
 e (Unless Sold Prior)\, Time: 4:00PM
SUMMARY:Auction for 
END:VEVENT
END:VCALENDAR
