BEGIN:VCALENDAR
VERSION:2.0
PRODID:icalendar-ruby
CALSCALE:GREGORIAN
BEGIN:VEVENT
DTSTAMP:20260424T075611Z
UID:2fb9ec42-34a2-45b0-b3f8-8afa576bc76e
DTSTART;VALUE=DATE:20230303
DESCRIPTION:Property ID# 551329\, Locatoin: Harcourts Auction Rooms Welling
 ton\, Time: 12:00PM
SUMMARY:Auction for 
END:VEVENT
END:VCALENDAR
