BEGIN:VCALENDAR
VERSION:2.0
PRODID:icalendar-ruby
CALSCALE:GREGORIAN
BEGIN:VEVENT
DTSTAMP:20260424T073908Z
UID:de212ab5-abe6-4052-a762-b0b1cbbfe1ce
DTSTART;VALUE=DATE:20221117
DESCRIPTION:Property ID# 546723\, Locatoin: 1/77 Thorndon Quay\, Time: 1:00
 PM
SUMMARY:Auction for 
END:VEVENT
END:VCALENDAR
