BEGIN:VCALENDAR
VERSION:2.0
PRODID:icalendar-ruby
CALSCALE:GREGORIAN
BEGIN:VEVENT
DTSTAMP:20260420T025737Z
UID:da19b004-f765-4bc6-95da-a8639bb6f933
DTSTART;VALUE=DATE:20221110
DESCRIPTION:Property ID# 545804\, Locatoin: 8 Kent Terrace\, Wellington\, T
 ime: 12:00PM
SUMMARY:Auction for 
END:VEVENT
END:VCALENDAR
