BEGIN:VCALENDAR
VERSION:2.0
PRODID:icalendar-ruby
CALSCALE:GREGORIAN
BEGIN:VEVENT
DTSTAMP:20260420T102406Z
UID:36288a6c-dea8-4a6b-a015-65e329e4c8db
DTSTART;VALUE=DATE:20241115
DESCRIPTION:Property ID# 544131\, Locatoin: 1/77 Thorndon Quay\, Time: 11:0
 0AM
SUMMARY:Auction for 
END:VEVENT
END:VCALENDAR
