BEGIN:VCALENDAR
VERSION:2.0
PRODID:icalendar-ruby
CALSCALE:GREGORIAN
BEGIN:VEVENT
DTSTAMP:20260424T075010Z
UID:6cbd5fae-cd0c-4a90-a752-e2f2c058965e
DTSTART;VALUE=DATE:20220708
DESCRIPTION:Property ID# 538265\, Locatoin: Harcourts Auction Rooms Welling
 ton\, Time: 12:00PM
SUMMARY:Auction for 
END:VEVENT
END:VCALENDAR
