BEGIN:VCALENDAR
VERSION:2.0
PRODID:icalendar-ruby
CALSCALE:GREGORIAN
BEGIN:VEVENT
DTSTAMP:20260422T095519Z
UID:71378eb5-1929-4382-93eb-4f4b82c7279a
DTSTART;VALUE=DATE:20220414
DESCRIPTION:Property ID# 531940\, Locatoin: Harcourts Khandallah\, Time: 1:
 00PM
SUMMARY:Auction for 
END:VEVENT
END:VCALENDAR
