BEGIN:VCALENDAR
VERSION:2.0
PRODID:icalendar-ruby
CALSCALE:GREGORIAN
BEGIN:VEVENT
DTSTAMP:20260424T204948Z
UID:163c3c3d-cdc5-432d-9696-4628a324a2dd
DTSTART;VALUE=DATE:20220331
DESCRIPTION:Property ID# 531264\, Locatoin: 8 Kent Terrace\, Wellington\, T
 ime: 12:00PM
SUMMARY:Auction for 
END:VEVENT
END:VCALENDAR
