BEGIN:VCALENDAR
VERSION:2.0
PRODID:icalendar-ruby
CALSCALE:GREGORIAN
BEGIN:VEVENT
DTSTAMP:20260420T090400Z
UID:6f011bdf-bc20-4af0-8b8f-468b25fdaefe
DTSTART;VALUE=DATE:20220225
DESCRIPTION:Property ID# 526772\, Locatoin: Harcourts Wellington City Offic
 e\, Time: 12:00PM
SUMMARY:Auction for 
END:VEVENT
END:VCALENDAR
