BEGIN:VCALENDAR
VERSION:2.0
PRODID:icalendar-ruby
CALSCALE:GREGORIAN
BEGIN:VEVENT
DTSTAMP:20260424T073016Z
UID:be2ea42e-ff57-47f2-88b7-5ba4ab9687dd
DTSTART;VALUE=DATE:20211216
DESCRIPTION:Property ID# 523981\, Locatoin: Harcourts Wellington City Offic
 e (unless sold prior)\, Time: 5:30PM
SUMMARY:Auction for 
END:VEVENT
END:VCALENDAR
