BEGIN:VCALENDAR
VERSION:2.0
PRODID:icalendar-ruby
CALSCALE:GREGORIAN
BEGIN:VEVENT
DTSTAMP:20260423T020247Z
UID:176f6de5-5235-40d7-b6ca-6f66b568afa2
DTSTART;VALUE=DATE:20211103
DESCRIPTION:Property ID# 519754\, Locatoin: level 1\, 77 Thorndon Quay\, Pi
 pitea\, Wellington\, Time: 2:00PM
SUMMARY:Auction for 
END:VEVENT
END:VCALENDAR
