BEGIN:VCALENDAR
VERSION:2.0
PRODID:icalendar-ruby
CALSCALE:GREGORIAN
BEGIN:VEVENT
DTSTAMP:20260423T015958Z
UID:78655f8b-63e7-4c18-acc2-54463bf6cfe4
DTSTART;VALUE=DATE:20211026
DESCRIPTION:Property ID# 518104\, Locatoin: 77 Thorndon Quay\, Pipitea\, We
 llington\, Time: 2:00PM
SUMMARY:Auction for 
END:VEVENT
END:VCALENDAR
