BEGIN:VCALENDAR
VERSION:2.0
PRODID:icalendar-ruby
CALSCALE:GREGORIAN
BEGIN:VEVENT
DTSTAMP:20260424T080204Z
UID:2d011584-608c-4148-8aab-b90ac567a434
DTSTART;VALUE=DATE:20210811
DESCRIPTION:Property ID# 514164\, Locatoin: Wellington City Office\, 54-56 
 Cambridge Terrace\, Te Aro 6011\, Wellington\, Time: 2:00PM
SUMMARY:Auction for 
END:VEVENT
END:VCALENDAR
