BEGIN:VCALENDAR
VERSION:2.0
PRODID:icalendar-ruby
CALSCALE:GREGORIAN
BEGIN:VEVENT
DTSTAMP:20260423T020533Z
UID:93941b98-b84f-4b3c-8da4-6b0410bf64e0
DTSTART;VALUE=DATE:20210624
DESCRIPTION:Property ID# 511144\, Time: 2:00PM
SUMMARY:Auction for 
END:VEVENT
END:VCALENDAR
