BEGIN:VCALENDAR
VERSION:2.0
PRODID:icalendar-ruby
CALSCALE:GREGORIAN
BEGIN:VEVENT
DTSTAMP:20260423T020406Z
UID:241b68b7-2aac-4141-9d24-b38ed58f1ef7
DTSTART;VALUE=DATE:20210325
DESCRIPTION:Property ID# 503547\, Locatoin: 77 Thorndon Quay\, Pipitea\, We
 llington\, Time: 2:00PM
SUMMARY:Auction for 
END:VEVENT
END:VCALENDAR
