BEGIN:VCALENDAR
VERSION:2.0
PRODID:icalendar-ruby
CALSCALE:GREGORIAN
BEGIN:VEVENT
DTSTAMP:20260424T205317Z
UID:bde819f7-f0b7-466c-a45e-6fa95b770638
DTSTART;VALUE=DATE:20210211
DESCRIPTION:Property ID# 500114\, Locatoin: 8 Kent Terrace\, Wellington\, T
 ime: 12:00PM
SUMMARY:Auction for 
END:VEVENT
END:VCALENDAR
