BEGIN:VCALENDAR
VERSION:2.0
PRODID:icalendar-ruby
CALSCALE:GREGORIAN
BEGIN:VEVENT
DTSTAMP:20260424T075523Z
UID:eadc1a11-b968-478d-895b-5c02c0a50de0
DTSTART;VALUE=DATE:20201126
DESCRIPTION:Property ID# 495222\, Time: 12:00PM
SUMMARY:Auction for 
END:VEVENT
END:VCALENDAR
