BEGIN:VCALENDAR
VERSION:2.0
PRODID:icalendar-ruby
CALSCALE:GREGORIAN
BEGIN:VEVENT
DTSTAMP:20260423T020259Z
UID:e47dbb2d-dcec-4f4c-9893-6fe65e69ef5c
DTSTART;VALUE=DATE:20201203
DESCRIPTION:Property ID# 495094\, Time: 2:00PM
SUMMARY:Auction for 
END:VEVENT
END:VCALENDAR
