BEGIN:VCALENDAR
VERSION:2.0
PRODID:icalendar-ruby
CALSCALE:GREGORIAN
BEGIN:VEVENT
DTSTAMP:20260424T073200Z
UID:e1cb739f-2b86-4d98-a6ac-45a5faee1c6a
DTSTART;VALUE=DATE:20201119
DESCRIPTION:Property ID# 493889\, Locatoin: Harcourts Wellington City Offic
 e\, 54-56 Cambridge Terrace\, Wellington (not selling prior)\, Time: 12:00
 PM
SUMMARY:Auction for 
END:VEVENT
END:VCALENDAR
