BEGIN:VCALENDAR
VERSION:2.0
PRODID:icalendar-ruby
CALSCALE:GREGORIAN
BEGIN:VEVENT
DTSTAMP:20260424T023338Z
UID:74a2e6fa-b933-4c3d-87f6-3685c74e1e18
DTSTART;VALUE=DATE:20201105
DESCRIPTION:Property ID# 492866\, Locatoin: 8 Kent Terrace\, Wellington \, 
 Time: 2:00PM
SUMMARY:Auction for 
END:VEVENT
END:VCALENDAR
