BEGIN:VCALENDAR
VERSION:2.0
PRODID:icalendar-ruby
CALSCALE:GREGORIAN
BEGIN:VEVENT
DTSTAMP:20260422T235010Z
UID:3dd2fce1-c88b-47b5-aeef-5f3b3460dc78
DTSTART;VALUE=DATE:20201104
DESCRIPTION:Property ID# 492391\, Locatoin: 77 Thorndon Quay\, Pipitea\, We
 llington\, Time: 2:00PM
SUMMARY:Auction for 
END:VEVENT
END:VCALENDAR
