BEGIN:VCALENDAR
VERSION:2.0
PRODID:icalendar-ruby
CALSCALE:GREGORIAN
BEGIN:VEVENT
DTSTAMP:20260420T224507Z
UID:88d73ec1-1688-48d4-995b-be4ed039157b
DTSTART;VALUE=DATE:20200916
DESCRIPTION:Property ID# 488510\, Locatoin: 12 noon Wednesday 16th Septembe
 r at 30 Bay Road\, Kilbirnie.\, Time: 12:00PM
SUMMARY:Auction for 
END:VEVENT
END:VCALENDAR
