BEGIN:VCALENDAR
VERSION:2.0
PRODID:icalendar-ruby
CALSCALE:GREGORIAN
BEGIN:VEVENT
DTSTAMP:20260423T020415Z
UID:dd390077-8025-4814-bb4a-2d8bbcac5f87
DTSTART;VALUE=DATE:20200827
DESCRIPTION:Property ID# 486459\, Locatoin: 77 Thorndon Quay\, Pipitea\, We
 llington\, Time: 2:00PM
SUMMARY:Auction for 
END:VEVENT
END:VCALENDAR
