BEGIN:VCALENDAR
VERSION:2.0
PRODID:icalendar-ruby
CALSCALE:GREGORIAN
BEGIN:VEVENT
DTSTAMP:20260424T075101Z
UID:1c8cb6a0-1053-4f7f-a37e-09ad2843e17d
DTSTART;VALUE=DATE:20190814
DESCRIPTION:Property ID# 458097\, Locatoin: Harcourts Wellington City Offic
 e\, 54-56 Cambridge Terrace\, Wellington\, Time: 12:00PM
SUMMARY:Auction for 
END:VEVENT
END:VCALENDAR
