BEGIN:VCALENDAR
VERSION:2.0
PRODID:icalendar-ruby
CALSCALE:GREGORIAN
BEGIN:VEVENT
DTSTAMP:20210122T032658Z
UID:d8d05243-bc1f-475e-8415-81b1e16b9141
DTSTART;TZID=Pacific/Auckland:20210124T130000
DTEND;TZID=Pacific/Auckland:20210124T140000
DESCRIPTION:Property ID# 500139
SUMMARY:Openhome for 156 Moxham Avenue
END:VEVENT
END:VCALENDAR
