BEGIN:VCALENDAR
VERSION:2.0
PRODID:icalendar-ruby
CALSCALE:GREGORIAN
BEGIN:VEVENT
DTSTAMP:20210122T032714Z
UID:e39fbaec-9904-42ce-bbff-c0f3146e9871
DTSTART;TZID=Pacific/Auckland:20210124T121500
DTEND;TZID=Pacific/Auckland:20210124T124500
DESCRIPTION:Property ID# 500319
SUMMARY:Openhome for 5/23 Glenbervie Terrace
END:VEVENT
END:VCALENDAR
