BEGIN:VCALENDAR
VERSION:2.0
PRODID:icalendar-ruby
CALSCALE:GREGORIAN
BEGIN:VEVENT
DTSTAMP:20210122T034031Z
UID:c6cb290b-9f41-4f4a-92e2-86033f7ade06
DTSTART;TZID=Pacific/Auckland:20210124T113000
DTEND;TZID=Pacific/Auckland:20210124T120000
DESCRIPTION:Property ID# 499712
SUMMARY:Openhome for 65 Chapman Street
END:VEVENT
END:VCALENDAR
