BEGIN:VCALENDAR
VERSION:2.0
PRODID:icalendar-ruby
CALSCALE:GREGORIAN
BEGIN:VEVENT
DTSTAMP:20210122T034028Z
UID:09ecc920-4a63-40a5-b8f5-d3a3347d0fd9
DTSTART;TZID=Pacific/Auckland:20210124T123000
DTEND;TZID=Pacific/Auckland:20210124T130000
DESCRIPTION:Property ID# 499708
SUMMARY:Openhome for 7B Gurney Road
END:VEVENT
END:VCALENDAR
