BEGIN:VCALENDAR
VERSION:2.0
PRODID:icalendar-ruby
CALSCALE:GREGORIAN
BEGIN:VEVENT
DTSTAMP:20210122T034020Z
UID:93f6997f-c034-40c5-b2c0-593a722bb991
DTSTART;TZID=Pacific/Auckland:20210124T130000
DTEND;TZID=Pacific/Auckland:20210124T133000
DESCRIPTION:Property ID# 499032
SUMMARY:Openhome for 25 Montgomery Avenue
END:VEVENT
END:VCALENDAR
