BEGIN:VCALENDAR
VERSION:2.0
PRODID:icalendar-ruby
CALSCALE:GREGORIAN
BEGIN:VEVENT
DTSTAMP:20210122T032659Z
UID:6747ed84-9063-40bd-a810-151b2e846ea5
DTSTART;VALUE=DATE:20210210
DESCRIPTION:Property ID# 500139\, Time: 3:00PM
SUMMARY:Auction for 156 Moxham Avenue
END:VEVENT
END:VCALENDAR
